BEGIN:VCALENDAR
VERSION:2.0
PRODID:spatie/icalendar-generator
DESCRIPTION:Events from Floyd County Health Dept.
X-WR-CALDESC:Events from Floyd County Health Dept.
REFRESH-INTERVAL;VALUE=DURATION:PT1440M
X-PUBLISHED-TTL:PT1440M
BEGIN:VTIMEZONE
TZID:America/Detroit
BEGIN:STANDARD
DTSTART:20251102T020000Z
TZOFFSETFROM:-0400
TZOFFSETTO:-0500
END:STANDARD
BEGIN:DAYLIGHT
DTSTART:20260308T020000Z
TZOFFSETFROM:-0500
TZOFFSETTO:-0400
END:DAYLIGHT
END:VTIMEZONE
BEGIN:VTIMEZONE
TZID:UTC
BEGIN:STANDARD
DTSTART:20250726T162612Z
TZOFFSETFROM:+0000
TZOFFSETTO:+0000
END:STANDARD
END:VTIMEZONE
BEGIN:VEVENT
UID:598-134
DTSTAMP:20260422T162612Z
SUMMARY:Harm Reduction Services
LOCATION:Prestonsburg Clinic 283 Goble Street\,  Prestonsburg KY 41653
ORGANIZER;CN=Floyd County Health:MAILTO:abshire.adriana@bitsourceky.com
RRULE:FREQ=WEEKLY;UNTIL=20260428T000000Z
DTSTART;TZID=America/Detroit:20260413T150000
DTEND;TZID=America/Detroit:20260413T174500
X-ALT-DESC;FMTTYPE=TEXT/HTML:@Prestonsburg Clinic
CATEGORIES:General
URL;VALUE=URI:https://fchdky.org/mc-events/harm-reduction-services-76/?mc_i
 d=598
METHOD:PUBLISH
END:VEVENT
END:VCALENDAR